BEGIN:VCALENDAR
VERSION:2.0
PRODID:-//Rso Baliprocess - ECPv6.15.17//NONSGML v1.0//EN
CALSCALE:GREGORIAN
METHOD:PUBLISH
X-WR-CALNAME:Rso Baliprocess
X-ORIGINAL-URL:https://rso-baliprocess.dev.juicebox.com.au
X-WR-CALDESC:Events for Rso Baliprocess
REFRESH-INTERVAL;VALUE=DURATION:PT1H
X-Robots-Tag:noindex
X-PUBLISHED-TTL:PT1H
BEGIN:VTIMEZONE
TZID:Australia/Perth
BEGIN:STANDARD
TZOFFSETFROM:+0800
TZOFFSETTO:+0800
TZNAME:AWST
DTSTART:20240101T000000
END:STANDARD
END:VTIMEZONE
BEGIN:VEVENT
DTSTART;TZID=Australia/Perth:20250306T090000
DTEND;TZID=Australia/Perth:20250314T170000
DTSTAMP:20260420T053427
CREATED:20250110T031139Z
LAST-MODIFIED:20250213T015800Z
UID:5140-1741251600-1741971600@rso-baliprocess.dev.juicebox.com.au
SUMMARY:Dummy content 3
DESCRIPTION:The Third RSO Constructive Dialogue brings together senior government officials\, diplomats\, attachés\, and representatives from Bali Process Member and Observer States and Organisations whose roles support international cooperation on refugee protection and international migration. Delegates will review progress and share promising practices relating to countering people smuggling\, trafficking in persons and related transnational crime.
URL:https://rso-baliprocess.dev.juicebox.com.au/calendars/dummy-content-3/
LOCATION:Third RSO Border Forum\, Bangkok\, Thailand
CATEGORIES:Policy Development
ATTACH;FMTTYPE=image/png:https://s3.ap-southeast-2.amazonaws.com/assets.rso.baliprocess.net/app/uploads/2024/12/10110144/Screenshot-2024-11-28-165506-e1732787744273.png
END:VEVENT
END:VCALENDAR